BEGIN:VCALENDAR
VERSION:2.0
PRODID:-//Napa Opioid Safety Coalition - ECPv6.15.20//NONSGML v1.0//EN
CALSCALE:GREGORIAN
METHOD:PUBLISH
X-ORIGINAL-URL:https://napaopioidsafety.org
X-WR-CALDESC:Events for Napa Opioid Safety Coalition
REFRESH-INTERVAL;VALUE=DURATION:PT1H
X-Robots-Tag:noindex
X-PUBLISHED-TTL:PT1H
BEGIN:VTIMEZONE
TZID:America/Los_Angeles
BEGIN:DAYLIGHT
TZOFFSETFROM:-0800
TZOFFSETTO:-0700
TZNAME:PDT
DTSTART:20240310T100000
END:DAYLIGHT
BEGIN:STANDARD
TZOFFSETFROM:-0700
TZOFFSETTO:-0800
TZNAME:PST
DTSTART:20241103T090000
END:STANDARD
BEGIN:DAYLIGHT
TZOFFSETFROM:-0800
TZOFFSETTO:-0700
TZNAME:PDT
DTSTART:20250309T100000
END:DAYLIGHT
BEGIN:STANDARD
TZOFFSETFROM:-0700
TZOFFSETTO:-0800
TZNAME:PST
DTSTART:20251102T090000
END:STANDARD
BEGIN:DAYLIGHT
TZOFFSETFROM:-0800
TZOFFSETTO:-0700
TZNAME:PDT
DTSTART:20260308T100000
END:DAYLIGHT
BEGIN:STANDARD
TZOFFSETFROM:-0700
TZOFFSETTO:-0800
TZNAME:PST
DTSTART:20261101T090000
END:STANDARD
END:VTIMEZONE
BEGIN:VEVENT
DTSTART;TZID=America/Los_Angeles:20250919T093000
DTEND;TZID=America/Los_Angeles:20250919T103000
DTSTAMP:20260421T054723
CREATED:20250609T211433Z
LAST-MODIFIED:20250609T211433Z
UID:4714-1758274200-1758277800@napaopioidsafety.org
SUMMARY:Monthly Coalition Meeting (In-Person)
DESCRIPTION:The Coalition meets on the third Friday of every month\, alternating between virtual and in-person meetings. \nAgenda items include:\n• Updates on recent activities\n• Task Force project updates\n• Presentations by community partners to increase awareness of resources\n• Planned activities for the following month(s) \nBreakfast will be provided for in-person attendees. We hope you can join us! \nIf you can’t make it to the physical location\, please feel free to participation virtually. Please email us at napaopioidsafetycoalition@gmail.com to receive calendar invitation with Teams meeting link.
URL:https://napaopioidsafety.org/event/monthly-coalition-meeting-in-person-2/
LOCATION:Communcare+OLE (South Napa Campus)\, 300 Hartle Court\, Napa\, CA\, 94558\, United States
CATEGORIES:NOSC Meeting
ATTACH;FMTTYPE=image/jpeg:https://napaopioidsafety.org/wp-content/uploads/2025/06/qtq80-0oIHx6.jpeg
ORGANIZER;CN="Napa Opioid Safety Coalition":MAILTO:napaopioidsafetycoalition@gmail.com
END:VEVENT
BEGIN:VEVENT
DTSTART;TZID=America/Los_Angeles:20250917T143000
DTEND;TZID=America/Los_Angeles:20250917T203000
DTSTAMP:20260421T054723
CREATED:20250913T034111Z
LAST-MODIFIED:20250913T035615Z
UID:5081-1758119400-1758141000@napaopioidsafety.org
SUMMARY:Beyond Awareness: Allies in Action for Suicide Prevention
DESCRIPTION:Join us at the Napa County Suicide Prevention Council’s second annual conference\, Beyond Awareness: Allies in Action for Suicide Prevention\, on Wednesday\, September 17\, 2025\, from 2:30–8:30 PM at the Yountville Community Center. \nThis free event features expert panels on protective factors for older adults and veterans\, a live Ally Training with The Trevor Project\, a resource fair\, and a keynote by mental health advocate and Calistoga City Councilmember Lisa Gift. Optional dinner available for $20.
URL:https://napaopioidsafety.org/event/beyond-awareness-allies-in-action-for-suicide-prevention/
LOCATION:Yountville Community Center\, 6516 Washington St\, Yountville\,\, CA\, 94599\, United States
CATEGORIES:Community Event,Naloxone Distribution
ATTACH;FMTTYPE=image/png:https://napaopioidsafety.org/wp-content/uploads/2025/09/2025-SPC-Featured-Image.png
END:VEVENT
BEGIN:VEVENT
DTSTART;TZID=America/Los_Angeles:20250913T140000
DTEND;TZID=America/Los_Angeles:20250913T170000
DTSTAMP:20260421T054723
CREATED:20250829T190322Z
LAST-MODIFIED:20250829T191920Z
UID:5049-1757772000-1757782800@napaopioidsafety.org
SUMMARY:Michael Leonardi Foundation Music + Awareness Concert
DESCRIPTION:Don’t miss the next Michael Leonardi Foundation Music + Awareness Concert on Saturday\, September 13 hosted at Napa Yard from 2-5 pm\, featuring Molly Jean\, Angry Girlfriend Racing Stripes and Couch Dog! This event features and supports talented musicians while raising awareness about staying safe from illicit fentanyl. The afternoon will also feature guest speakers and resources\, including naloxone distribution. \nReserve your spot with a $15 donation through Eventbrite: MLFMusic.eventbrite.com. Food and beverages will be available for purchase at Napa Yard. \n 
URL:https://napaopioidsafety.org/event/michael-leonardi-foundation-music-awareness-concert/
LOCATION:Napa Yard\, 585 1st St (East Beer Garden)\, Napa\, CA\, 94559\, United States
CATEGORIES:Community Event,Naloxone Distribution
ATTACH;FMTTYPE=image/png:https://napaopioidsafety.org/wp-content/uploads/2025/08/MLF-2025-Music-Event.png
END:VEVENT
BEGIN:VEVENT
DTSTART;TZID=America/Los_Angeles:20250822T160000
DTEND;TZID=America/Los_Angeles:20250822T190000
DTSTAMP:20260421T054723
CREATED:20250818T193251Z
LAST-MODIFIED:20250818T194517Z
UID:4929-1755878400-1755889200@napaopioidsafety.org
SUMMARY:Back to School Community Celebration
DESCRIPTION:Join us at the Back to School Community Celebration Luau for Calistoga schools. This is a free community event for all ages! NOSC will be distributing naloxone at this event.
URL:https://napaopioidsafety.org/event/back-to-school-community-celebration/
LOCATION:Calistoga Elementary School\, 1327 Berry Street\, Calistoga\, CA\, 94515\, United States
CATEGORIES:Community Event,Naloxone Distribution
ATTACH;FMTTYPE=image/png:https://napaopioidsafety.org/wp-content/uploads/2025/08/UVFC-Back-to-School.png
ORGANIZER;CN="UpValley Family Centers":MAILTO:info@upvalleyfamilycenters.org
END:VEVENT
BEGIN:VEVENT
DTSTART;TZID=America/Los_Angeles:20250821T173000
DTEND;TZID=America/Los_Angeles:20250821T190000
DTSTAMP:20260421T054723
CREATED:20250623T205511Z
LAST-MODIFIED:20250808T060733Z
UID:4787-1755797400-1755802800@napaopioidsafety.org
SUMMARY:United Against Fentanyl: 2nd Annual Opioid Awareness Rally & Memorial
DESCRIPTION:The Napa Opioid Safety Coalition invites you to the 2nd Annual United Against Fentanyl: Opioid Awareness Rally & Memorial. \nCome together as a community on National Fentanyl Prevention and Awareness Day to honor those lost to the opioid crisis\, learn how to get involved and how you can help save a life. \nHear from community leaders\, advocates\, and those personally affected by the opioid crisis\, followed by a short unity walk. After the walk\, we will hold a moment of silence and gather at the memorial table to honor and remember those we’ve lost to opioid poisoning and overdose—please bring a framed photo of a loved one to remember. Resources will be available to learn how to stay safe and how to take action. \nLet’s stand united to spread awareness\, offer hope\, and create change in our community. Gather your family\, friends\, and neighbors and make your voice matter—bring your own rally signs or grab one of ours at the event! \nLive Spanish interpretation will be available.  \n 
URL:https://napaopioidsafety.org/event/united-against-fentanyl/
LOCATION:Veterans Memorial Park\, 800 Main Street\, Napa\, CA\, 94559\, United States
CATEGORIES:Naloxone Distribution,NOSC Event
ATTACH;FMTTYPE=image/png:https://napaopioidsafety.org/wp-content/uploads/2025/06/United-Against-Fentanyl-Header-2.png
ORGANIZER;CN="Napa Opioid Safety Coalition":MAILTO:napaopioidsafetycoalition@gmail.com
END:VEVENT
BEGIN:VEVENT
DTSTART;TZID=America/Los_Angeles:20250815T093000
DTEND;TZID=America/Los_Angeles:20250815T103000
DTSTAMP:20260421T054723
CREATED:20250609T033107Z
LAST-MODIFIED:20250609T033107Z
UID:4707-1755250200-1755253800@napaopioidsafety.org
SUMMARY:Monthly Coalition Meeting (Virtual)
DESCRIPTION:The Coalition meets on the third Friday of every month\, alternating between virtual and in-person meetings. \nAgenda items include:\n• Updates on recent activities\n• Task Force project updates\n• Presentations by community partners to increase awareness of resources\n• Planned activities for the following month(s) \nPlease email us at napaopioidsafetycoalition@gmail.com to receive calendar invitation with Teams meeting link.
URL:https://napaopioidsafety.org/event/monthly-coalition-meeting-virtual/
LOCATION:Virtual via Microsoft Teams
CATEGORIES:NOSC Meeting
ATTACH;FMTTYPE=image/jpeg:https://napaopioidsafety.org/wp-content/uploads/2025/06/qtq80-ACH4Ol.jpeg
ORGANIZER;CN="Napa Opioid Safety Coalition":MAILTO:napaopioidsafetycoalition@gmail.com
END:VEVENT
BEGIN:VEVENT
DTSTART;TZID=America/Los_Angeles:20250813T170000
DTEND;TZID=America/Los_Angeles:20250813T200000
DTSTAMP:20260421T054723
CREATED:20250529T192022Z
LAST-MODIFIED:20250607T230155Z
UID:3512-1755104400-1755115200@napaopioidsafety.org
SUMMARY:Meet Me in the Street (August)
DESCRIPTION:The “Meet Me in the Street” event in American Canyon will be held on the second Wednesday of the month from June-August. There will be a food truck rally\, business tables\, live music\, kids activities\, wine and beer\, corn hole\, and a custom/classic car show. \nThe event will be held on W. American Canyon Road between James Road and Elliott Drive and including the Northampton Park. The street will be closed to automobile traffic. \nNOSC will be distributing naloxone at this event.
URL:https://napaopioidsafety.org/event/meet-me-in-the-street-august/
LOCATION:North Hampton Park\, 242 Northampton Dr\, American Canyon\, CA\, 94503\, United States
CATEGORIES:Community Event,Naloxone Distribution
ATTACH;FMTTYPE=image/jpeg:https://napaopioidsafety.org/wp-content/uploads/2025/06/qtq80-HqoeJP.jpeg
ORGANIZER;CN="American Canyon Chamber of Commerce":MAILTO:chamber@amcanchamber.org
END:VEVENT
BEGIN:VEVENT
DTSTART;TZID=America/Los_Angeles:20250805T160000
DTEND;TZID=America/Los_Angeles:20250805T190000
DTSTAMP:20260421T054723
CREATED:20250716T040419Z
LAST-MODIFIED:20250716T042137Z
UID:4904-1754409600-1754420400@napaopioidsafety.org
SUMMARY:National Night Out
DESCRIPTION:National Night Out is an annual community-building campaign that promotes police-community partnerships and local camaraderie to make our neighborhoods safer\, more caring places to live. On Tuesday\, August 5\, 2025\, communities across Napa County will celebrate National Night Out. \nNOSC will be distributing naloxone at this event.
URL:https://napaopioidsafety.org/event/national-night-out/
LOCATION:Napa Valley College\, 2277 Napa Vallejo Highway\, Napa\, CA\, 94558\, United States
CATEGORIES:Community Event,Naloxone Distribution
ATTACH;FMTTYPE=image/png:https://napaopioidsafety.org/wp-content/uploads/2025/07/National-Night-Out-Header.png
END:VEVENT
BEGIN:VEVENT
DTSTART;TZID=America/Los_Angeles:20250731T170000
DTEND;TZID=America/Los_Angeles:20250731T190000
DTSTAMP:20260421T054723
CREATED:20250625T171608Z
LAST-MODIFIED:20250711T201448Z
UID:4862-1753981200-1753988400@napaopioidsafety.org
SUMMARY:VOICES Annual Lowrider Summer Jam
DESCRIPTION:Don’t miss the VOICES Annual Taco & Tunes Lowrider Night on Wednesday\, July 31 from 5–7 PM. This is a family-friendly community event for all ages with FREE FOOD and other fun activities! We’d love for you to stop by and enjoy the evening with us! \nNOSC will be distributing naloxone at this event.
URL:https://napaopioidsafety.org/event/voices-annual-lowrider-summer-jam/
LOCATION:2300 Jefferson St.\, 2300 Jefferson St\, Napa\, CA\, 94559\, United States
CATEGORIES:Community Event,Naloxone Distribution
ATTACH;FMTTYPE=image/png:https://napaopioidsafety.org/wp-content/uploads/2025/06/voices-event-7.31.25-v2.png
END:VEVENT
BEGIN:VEVENT
DTSTART;TZID=America/Los_Angeles:20250718T093000
DTEND;TZID=America/Los_Angeles:20250718T103000
DTSTAMP:20260421T054723
CREATED:20250529T190744Z
LAST-MODIFIED:20250529T191426Z
UID:3502-1752831000-1752834600@napaopioidsafety.org
SUMMARY:Monthly Coalition Meeting (In Person)
DESCRIPTION:The Coalition meets on the third Friday of every month\, alternating between virtual and in-person meetings. \nAgenda items include:\n• Updates on recent activities\n• Task Force project updates\n• Presentations by community partners to increase awareness of resources\n• Planned activities for the following month(s) \nBreakfast will be provided for in-person attendees. We hope you can join us! \nIf you can’t make it to the physical location\, please feel free to participation virtually. Please email us at napaopioidsafetycoalition@gmail.com to receive calendar invitation with Teams meeting link.
URL:https://napaopioidsafety.org/event/monthly-coalition-meeting-in-person/
LOCATION:Communcare+OLE (South Napa Campus)\, 300 Hartle Court\, Napa\, CA\, 94558\, United States
CATEGORIES:NOSC Meeting
ATTACH;FMTTYPE=image/jpeg:https://napaopioidsafety.org/wp-content/uploads/2025/05/qtq80-K6KTps.jpeg
ORGANIZER;CN="Napa Opioid Safety Coalition":MAILTO:napaopioidsafetycoalition@gmail.com
END:VEVENT
BEGIN:VEVENT
DTSTART;TZID=America/Los_Angeles:20250628T090000
DTEND;TZID=America/Los_Angeles:20250628T110000
DTSTAMP:20260421T054723
CREATED:20250623T205119Z
LAST-MODIFIED:20250626T201941Z
UID:4783-1751101200-1751108400@napaopioidsafety.org
SUMMARY:Community Awareness 5K
DESCRIPTION:After recent events in the Sonoma County teen community\, the Empire Runner’s Club\, Song for Charlie and Santa Rosa City Schools are hosting a Community Awareness 5K for those who would like to run\, jog\, or walk in support of teen drug awareness.
URL:https://napaopioidsafety.org/event/community-awareness-5k/
LOCATION:Howarth Park\, 630 Summerfield Rd\, Santa Rosa\, 95405\, United States
CATEGORIES:Community Event
ATTACH;FMTTYPE=image/png:https://napaopioidsafety.org/wp-content/uploads/2025/06/Santa-Rosa-k5-social.png
END:VEVENT
BEGIN:VEVENT
DTSTART;TZID=America/Los_Angeles:20250620T093000
DTEND;TZID=America/Los_Angeles:20250620T103000
DTSTAMP:20260421T054723
CREATED:20250523T045026Z
LAST-MODIFIED:20250529T191549Z
UID:3344-1750411800-1750415400@napaopioidsafety.org
SUMMARY:Monthly Coalition Meeting (Virtual)
DESCRIPTION:The Coalition meets on the third Friday of every month\, alternating between virtual and in-person meetings. \nAgenda items include:\n• Updates on recent activities\n• Task Force project updates\n• Presentations by community partners to increase awareness of resources\n• Planned activities for the following month(s) \nPlease email us at napaopioidsafetycoalition@gmail.com to receive calendar invitation with Teams meeting link.
URL:https://napaopioidsafety.org/event/nosc-monthly-meeting/
LOCATION:Virtual via Microsoft Teams
CATEGORIES:NOSC Meeting
ATTACH;FMTTYPE=image/jpeg:https://napaopioidsafety.org/wp-content/uploads/2025/05/qtq80-IQqFI0.jpeg
ORGANIZER;CN="Napa Opioid Safety Coalition":MAILTO:napaopioidsafetycoalition@gmail.com
END:VEVENT
BEGIN:VEVENT
DTSTART;TZID=America/Los_Angeles:20250611T170000
DTEND;TZID=America/Los_Angeles:20250611T200000
DTSTAMP:20260421T054723
CREATED:20250522T184345Z
LAST-MODIFIED:20250607T230227Z
UID:3306-1749661200-1749672000@napaopioidsafety.org
SUMMARY:Meet Me in the Street (June)
DESCRIPTION:The “Meet Me in the Street” event in American Canyon will be held on the second Wednesday of the month from June-August. There will be a food truck rally\, business tables\, live music\, kids activities\, wine and beer\, corn hole\, and a custom/classic car show. \nThe event will be held on W. American Canyon Road between James Road and Elliott Drive and including the Northampton Park. The street will be closed to automobile traffic. \nNOSC will be distributing naloxone at this event.
URL:https://napaopioidsafety.org/event/american-canyon-meet-me-in-the-street/
LOCATION:North Hampton Park\, 242 Northampton Dr\, American Canyon\, CA\, 94503\, United States
CATEGORIES:Community Event,Naloxone Distribution
ATTACH;FMTTYPE=image/jpeg:https://napaopioidsafety.org/wp-content/uploads/2025/05/qtq80-X8KLf1.jpeg
ORGANIZER;CN="American Canyon Chamber of Commerce":MAILTO:chamber@amcanchamber.org
END:VEVENT
BEGIN:VEVENT
DTSTART;TZID=America/Los_Angeles:20250528T100000
DTEND;TZID=America/Los_Angeles:20250528T120000
DTSTAMP:20260421T054723
CREATED:20250522T165348Z
LAST-MODIFIED:20250527T214948Z
UID:3279-1748426400-1748433600@napaopioidsafety.org
SUMMARY:Older Adult Health & Wellness Fair
DESCRIPTION:Join us for a morning dedicated to supportive resources\, health\, and wellness for adults age 55+. No registration is required to attend. There will be raffle prizes and giveaways!  \nNOSC will be distributing naloxone at this event.
URL:https://napaopioidsafety.org/event/older-adult-health-and-wellness-fair/
LOCATION:Pioneer Park\, 1308 Cedar St\, Calistoga\, CA\, 94515\, United States
CATEGORIES:Community Event,Naloxone Distribution
ATTACH;FMTTYPE=image/jpeg:https://napaopioidsafety.org/wp-content/uploads/2025/05/qtq80-tBH0VG.jpeg
ORGANIZER;CN="UpValley Family Centers":MAILTO:info@upvalleyfamilycenters.org
END:VEVENT
END:VCALENDAR